BEGIN:VCALENDAR
VERSION:2.0
PRODID:-//ChamberMaster//Event Calendar 2.0//EN
METHOD:PUBLISH
X-PUBLISHED-TTL:P3D
REFRESH-INTERVAL:P3D
CALSCALE:GREGORIAN
BEGIN:VEVENT
DTSTART:20260512T150000Z
DTEND:20260513T034500Z
X-MICROSOFT-CDO-ALLDAYEVENT:FALSE
SUMMARY:New Member Picture - Imperial Coatings Unlimited
DESCRIPTION:
X-ALT-DESC;FMTTYPE=text/html:
LOCATION:18 W Main St\, Casey
UID:e.1548.11392
SEQUENCE:3
DTSTAMP:20260422T012849Z
URL:https://business.effinghamcountychamber.com/events/details/new-member-picture-imperial-coatings-unlimited-11392
END:VEVENT

END:VCALENDAR
