BEGIN:VCALENDAR
VERSION:2.0
PRODID:-//ChamberMaster//Event Calendar 2.0//EN
METHOD:PUBLISH
X-PUBLISHED-TTL:P3D
REFRESH-INTERVAL:P3D
CALSCALE:GREGORIAN
BEGIN:VEVENT
DTSTART:20261111T130000Z
DTEND:20261111T150000Z
X-MICROSOFT-CDO-ALLDAYEVENT:FALSE
SUMMARY:Better Your Business Roundtable - November 2026
DESCRIPTION:Better Your Business Roundtable: People\, Policies & Protection\n\nStrong businesses aren't built on products alone   they're built on people\, clear expectations\, and smart safeguards.\n\nThis roundtable is designed for business owners\, managers\, and HR professionals who want to strengthen their workplace foundation. We'll explore topics such as employee policies\, compliance considerations\, risk management\, workplace culture\, and protecting both your team and your organization.\n\nParticipants will engage in practical discussion around common challenges\, policy best practices\, and proactive steps that reduce risk while supporting a healthy\, productive work environment.\n\nAs with all Better Your Business sessions\, this will be a guided\, peer-driven conversation focused on real experiences and actionable insight.\n\nWhether you're updating your handbook\, navigating workforce challenges\, or simply looking to tighten up your operational structure\, this roundtable offers clarity\, perspective\, and meaningful takeaways to help protect what you're building.\n\n \nPhoto & Video Disclaimer\n\nEffingham County Chamber (Chamber) reserves the right to use any photograph/video taken at any event sponsored by the Chamber\, without the expressed written permission of those included within the photograph/video. The Chamber may use the photograph/video in publications or other media material produced\, used\, or contracted by the Chamber\, including but not limited to brochures\, invitations\, books\, newspapers\, magazines\, television\, websites\, etc. If you do not wish to be photographed/video\, please inform the Chamber.\n\n \n\nAny person or organization not affiliated with Chamber may not use\, copy\, alter\, or modify Chamber photographs\, graphics\, videography\, or other similar reproductions and recordings without the advance written permission of an authorized designee from Chamber.
X-ALT-DESC;FMTTYPE=text/html:<p data-end="259" data-start="193"><strong data-end="259" data-start="193">Better Your Business Roundtable: People\, Policies &amp\; Protection</strong></p>\n\n<p data-end="378" data-start="261">Strong businesses aren&rsquo\;t built on products alone &mdash\; they&rsquo\;re built on people\, clear expectations\, and smart safeguards.</p>\n\n<p data-end="674" data-start="380">This roundtable is designed for business owners\, managers\, and HR professionals who want to strengthen their workplace foundation. We&rsquo\;ll explore topics such as employee policies\, compliance considerations\, risk management\, workplace culture\, and protecting both your team and your organization.</p>\n\n<p data-end="867" data-start="676">Participants will engage in practical discussion around common challenges\, policy best practices\, and proactive steps that reduce risk while supporting a healthy\, productive work environment.</p>\n\n<p data-end="1011" data-start="869">As with all Better Your Business sessions\, this will be a guided\, peer-driven conversation focused on real experiences and actionable insight.</p>\n\n<p data-end="1252" data-start="1013">Whether you&rsquo\;re updating your handbook\, navigating workforce challenges\, or simply looking to tighten up your operational structure\, this roundtable offers clarity\, perspective\, and meaningful takeaways to help protect what you&rsquo\;re building.</p>\n\n<p data-end="1041" data-start="1012">&nbsp\;</p>\n<strong><em><u><span style="color:#242424\;"><span style="font-size:8.5pt\;">Photo &amp\; Video Disclaimer</span></span></u></em></strong><br />\n<em><span style="color:#242424\;"><span style="font-size:8.5pt\;">Effingham County Chamber (Chamber) reserves the right to use any photograph/video taken at any event sponsored by the Chamber\, without the expressed written permission of those included within the photograph/video. The Chamber may use the photograph/video in publications or other media material produced\, used\, or contracted by the Chamber\, including but not limited to brochures\, invitations\, books\, newspapers\, magazines\, television\, websites\, etc. If you do not wish to be photographed/video\, please inform the Chamber.</span></span></em><br />\n&nbsp\;<br />\n<em><span style="color:#242424\;"><span style="font-size:8.5pt\;">Any person or organization not affiliated with Chamber may not use\, copy\, alter\, or modify Chamber photographs\, graphics\, videography\, or other similar reproductions and recordings without the advance written permission of an authorized designee from Chamber.</span></span></em><br />\n&nbsp\;<br />\n&nbsp\;
LOCATION:The Maroon Spoon 115 S Main St.\, Dieterich
UID:e.1548.11333
SEQUENCE:3
DTSTAMP:20260424T082942Z
URL:https://business.effinghamcountychamber.com/events/details/better-your-business-roundtable-november-2026-11333
END:VEVENT

END:VCALENDAR
