BEGIN:VCALENDAR
VERSION:2.0
PRODID:-//ChamberMaster//Event Calendar 2.0//EN
METHOD:PUBLISH
X-PUBLISHED-TTL:P3D
REFRESH-INTERVAL:P3D
CALSCALE:GREGORIAN
BEGIN:VEVENT
DTSTART:20170427T170000Z
DTEND:20170427T180000Z
X-MICROSOFT-CDO-ALLDAYEVENT:FALSE
SUMMARY:YBNext Professional Development Luncheon
DESCRIPTION:"Purpose\, Passion and Peers: Is your network enhancing your life?" \n\n \n\nPresenter:  Dan Woods
X-ALT-DESC;FMTTYPE=text/html:<span style="font-size:18px\;"><span style="font-family:arial\;"><em>&quot\;Purpose\, Passion and Peers: Is your network enhancing your life?&quot\;&nbsp\;</em></span></span><br />\n&nbsp\;<br />\n<span style="font-family:arial\;"><span style="font-size:20px\;"><strong><span style="font-size:16px\;">Presenter: &nbsp\;Dan Woods</span></strong></span></span>
LOCATION:Dieterich Bank Corporate Office 300 Sur Woods Drive\, Effingham
UID:e.1548.5083
SEQUENCE:3
DTSTAMP:20260422T042730Z
URL:http://business.effinghamcountychamber.com/events/details/ybnext-professional-development-luncheon-5083
END:VEVENT

END:VCALENDAR
