BEGIN:VCALENDAR
VERSION:2.0
PRODID:-//ChamberMaster//Event Calendar 2.0//EN
METHOD:PUBLISH
X-PUBLISHED-TTL:P3D
REFRESH-INTERVAL:P3D
CALSCALE:GREGORIAN
BEGIN:VEVENT
DTSTART:20170126T180000Z
DTEND:20170126T190000Z
X-MICROSOFT-CDO-ALLDAYEVENT:FALSE
SUMMARY:YBNext Professional Development Luncheon
DESCRIPTION:"The Importance of Understanding People"\n\nPresentation by:  Lisa Teichmiller
X-ALT-DESC;FMTTYPE=text/html:<span style="font-family:arial\;"><span style="font-size:20px\;"><strong>&quot\;The Importance of Understanding People&quot\;<br />\n<span style="font-size:16px\;">Presentation by: &nbsp\;Lisa Teichmiller</span></strong></span></span>
LOCATION:Effingham Public Library 200 N Third Street\, Effingham
UID:e.1548.910
SEQUENCE:3
DTSTAMP:20260424T102911Z
URL:http://business.effinghamcountychamber.com/events/details/ybnext-professional-development-luncheon-01-26-2017-910
END:VEVENT

END:VCALENDAR
