BEGIN:VCALENDAR
VERSION:2.0
PRODID:-//ChamberMaster//Event Calendar 2.0//EN
METHOD:PUBLISH
X-PUBLISHED-TTL:P3D
REFRESH-INTERVAL:P3D
CALSCALE:GREGORIAN
BEGIN:VEVENT
DTSTART:20170913T170000Z
DTEND:20170913T180000Z
X-MICROSOFT-CDO-ALLDAYEVENT:FALSE
SUMMARY:YBNext Professional Development Lunch
DESCRIPTION:The speakers for the lunch are Amy Tarr and Kent Probst from the Midland Institute for Entrepreneurship.
X-ALT-DESC;FMTTYPE=text/html:The speakers for the lunch are Amy Tarr&nbsp\;and Kent Probst from the Midland&nbsp\;Institute for Entrepreneurship.
LOCATION:Effingham Public Library 200 N. 3rd St Effingham\, IL 62401
UID:e.1548.5693
SEQUENCE:3
DTSTAMP:20260419T194640Z
URL:http://business.effinghamcountychamber.com/events/details/ybnext-professional-development-lunch-5693
END:VEVENT

END:VCALENDAR
