BEGIN:VCALENDAR
VERSION:2.0
PRODID:-//ChamberMaster//Event Calendar 2.0//EN
METHOD:PUBLISH
X-PUBLISHED-TTL:P3D
REFRESH-INTERVAL:P3D
CALSCALE:GREGORIAN
BEGIN:VEVENT
DTSTART:20170411T221500Z
DTEND:20170412T010000Z
X-MICROSOFT-CDO-ALLDAYEVENT:FALSE
SUMMARY:YBNext Mix-N-Mingle at The Midway
DESCRIPTION:Mix-N-Mingle at The Midway\n\n \n\nAppetizers & Drink Ticket Provided
X-ALT-DESC;FMTTYPE=text/html:<span style="font-family:helvetica\,sans-serif\;"><span style="font-size:14.0pt\;">Mix-N-Mingle at The Midway<br />\n&#8203\;<br />\nAppetizers &amp\; Drink Ticket Provided</span></span><br />\n&nbsp\;<br />\n&nbsp\;
LOCATION:The Midway 18924 N US Hwy 45\, Effingham
UID:e.1548.3457
SEQUENCE:3
DTSTAMP:20260425T032541Z
URL:http://business.effinghamcountychamber.com/events/details/ybnext-mix-n-mingle-at-the-midway-3457
END:VEVENT

END:VCALENDAR
