BEGIN:VCALENDAR
VERSION:2.0
PRODID:-//ChamberMaster//Event Calendar 2.0//EN
METHOD:PUBLISH
X-PUBLISHED-TTL:P3D
REFRESH-INTERVAL:P3D
CALSCALE:GREGORIAN
BEGIN:VEVENT
DTSTART:20170307T231500Z
DTEND:20170308T001500Z
X-MICROSOFT-CDO-ALLDAYEVENT:FALSE
SUMMARY:YBNext Annual Meeting
DESCRIPTION:YBNext Annual Meeting\n\nTuesday\, March 7\n\n5:15 - 6:15 pm\n\nEffingham Country Club
X-ALT-DESC;FMTTYPE=text/html:YBNext&nbsp\;Annual Meeting<br />\nTuesday\, March 7<br />\n5:15 - 6:15 pm<br />\nEffingham Country Club
LOCATION:Effingham Country Club 2400 W Country Club Rd\, Effingham
UID:e.1548.4751
SEQUENCE:3
DTSTAMP:20260423T083020Z
URL:http://business.effinghamcountychamber.com/events/details/ybnext-annual-meeting-4751
END:VEVENT

END:VCALENDAR
