BEGIN:VCALENDAR
VERSION:2.0
PRODID:-//ChamberMaster//Event Calendar 2.0//EN
METHOD:PUBLISH
X-PUBLISHED-TTL:P3D
REFRESH-INTERVAL:P3D
CALSCALE:GREGORIAN
BEGIN:VEVENT
DTSTART:20260430T123000Z
DTEND:20260430T140000Z
X-MICROSOFT-CDO-ALLDAYEVENT:FALSE
SUMMARY:Workplace Safety Peer Roundtable
DESCRIPTION:The idea is simple: bring together safety leaders from manufacturing\, construction\, utilities\, transportation\, and other high-exposure industries for meaningful conversation and shared learning.\n\nThis peer-driven roundtable is designed to create space for open discussion around best practices\, real-world challenges\, compliance concerns\, and practical solutions. Attendees will have the opportunity to exchange ideas\, ask questions\, and learn from others who understand the day-to-day realities of workplace safety.\n\nThe goal is to strengthen safety culture across our local business community through collaboration and shared experience.\n\nNo formal presentations   just honest conversation and practical insight.\n\n\n \n\nPhoto & Video Disclaimer\n\nEffingham County Chamber (Chamber) reserves the right to use any photograph/video taken at any event sponsored by the Chamber\, without the expressed written permission of those included within the photograph/video. The Chamber may use the photograph/video in publications or other media material produced\, used\, or contracted by the Chamber\, including but not limited to brochures\, invitations\, books\, newspapers\, magazines\, television\, websites\, etc. If you do not wish to be photographed/video\, please inform the Chamber.\n\n \n\nAny person or organization not affiliated with Chamber may not use\, copy\, alter\, or modify Chamber photographs\, graphics\, videography\, or other similar reproductions and recordings without the advance written permission of an authorized designee from Chamber.
X-ALT-DESC;FMTTYPE=text/html:<p data-end="376" data-start="182">The idea is simple: bring together safety leaders from manufacturing\, construction\, utilities\, transportation\, and other high-exposure industries for meaningful conversation and shared learning.</p>\n\n<p data-end="698" data-start="378">This peer-driven roundtable is designed to create space for open discussion around best practices\, real-world challenges\, compliance concerns\, and practical solutions. Attendees will have the opportunity to exchange ideas\, ask questions\, and learn from others who understand the day-to-day realities of workplace safety.</p>\n\n<p data-end="821" data-start="700">The goal is to strengthen safety culture across our local business community through collaboration and shared experience.</p>\n\n<p data-end="896" data-start="823">No formal presentations &mdash\; just honest conversation and practical insight.</p>\n<br />\n&nbsp\;<br />\n<strong><em><u><span style="color:#242424\;"><span style="font-size:8.5pt\;">Photo &amp\; Video Disclaimer</span></span></u></em></strong><br />\n<em><span style="color:#242424\;"><span style="font-size:8.5pt\;">Effingham County Chamber (Chamber) reserves the right to use any photograph/video taken at any event sponsored by the Chamber\, without the expressed written permission of those included within the photograph/video. The Chamber may use the photograph/video in publications or other media material produced\, used\, or contracted by the Chamber\, including but not limited to brochures\, invitations\, books\, newspapers\, magazines\, television\, websites\, etc. If you do not wish to be photographed/video\, please inform the Chamber.</span></span></em><br />\n&nbsp\;<br />\n<em><span style="color:#242424\;"><span style="font-size:8.5pt\;">Any person or organization not affiliated with Chamber may not use\, copy\, alter\, or modify Chamber photographs\, graphics\, videography\, or other similar reproductions and recordings without the advance written permission of an authorized designee from Chamber.</span></span></em><br />\n&nbsp\;<br />\n&nbsp\;
LOCATION:Effingham County Chamber 903 N Keller Dr.\, Effingham
UID:e.1548.11377
SEQUENCE:3
DTSTAMP:20260423T164500Z
URL:http://business.effinghamcountychamber.com/events/details/workplace-safety-peer-roundtable-11377
END:VEVENT

END:VCALENDAR
