BEGIN:VCALENDAR
VERSION:2.0
PRODID:-//ChamberMaster//Event Calendar 2.0//EN
METHOD:PUBLISH
X-PUBLISHED-TTL:P3D
REFRESH-INTERVAL:P3D
CALSCALE:GREGORIAN
BEGIN:VEVENT
DTSTART:20170719T220000Z
DTEND:20170720T000000Z
X-MICROSOFT-CDO-ALLDAYEVENT:FALSE
SUMMARY:Workforce Wednesday Class! Hire Me!
DESCRIPTION:Workforce Wednesday Classes - Hire Me!  \n\n In July\, our Workforce Wednesday will be held on the 19th which is the third Wednesday of the month\, due to the holiday on the 4th.  Workforce Wednesday is dedicated to helping our Workforce in Effingham County and the surrounding area find the job you want and need.  \n\nClasses are free of charge and are taught by local Human Resource and Chamber Professionals on a variety of different topics\, all related to helping the job seeking public be  better prepared to ace the interview process\, present their best qualities\, and get hired.
X-ALT-DESC;FMTTYPE=text/html:<strong style="color: rgb(51\, 51\, 51)\; font-family: arial\, sans-serif\; font-size: 13.3333px\; background-color: rgb(255\, 255\, 255)\;">Workforce Wednesday Classes</strong><span style="color: rgb(51\, 51\, 51)\; font-family: arial\, sans-serif\; font-size: 13.3333px\; background-color: rgb(255\, 255\, 255)\;">&nbsp\;-&nbsp\;</span><strong style="color: rgb(51\, 51\, 51)\; font-family: arial\, sans-serif\; font-size: 13.3333px\; background-color: rgb(255\, 255\, 255)\;">Hire Me! &nbsp\;</strong><br style="color: rgb(51\, 51\, 51)\; font-family: arial\, sans-serif\; font-size: 13.3333px\; background-color: rgb(255\, 255\, 255)\;" />\n<span style="color: rgb(51\, 51\, 51)\; font-family: arial\, sans-serif\; font-size: 13.3333px\; background-color: rgb(255\, 255\, 255)\;">&nbsp\;In July\, our Workforce Wednesday will be held on the 19th which is the third Wednesday&nbsp\;of the month\, due to the holiday on the 4th. &nbsp\;Workforce Wednesday is dedicated to helping our Workforce in Effingham&nbsp\;County and the surrounding area find the job you want and need. &nbsp\;</span><br style="color: rgb(51\, 51\, 51)\; font-family: arial\, sans-serif\; font-size: 13.3333px\; background-color: rgb(255\, 255\, 255)\;" />\n<span style="color: rgb(51\, 51\, 51)\; font-family: arial\, sans-serif\; font-size: 13.3333px\; background-color: rgb(255\, 255\, 255)\;">Classes are</span><em style="color: rgb(51\, 51\, 51)\; font-family: arial\, sans-serif\; font-size: 13.3333px\; background-color: rgb(255\, 255\, 255)\;"><strong>&nbsp\;free&nbsp\;of charge</strong></em><span style="color: rgb(51\, 51\, 51)\; font-family: arial\, sans-serif\; font-size: 13.3333px\; background-color: rgb(255\, 255\, 255)\;">&nbsp\;and are taught by local Human Resource and Chamber Professionals on a variety of&nbsp\;different&nbsp\;topics\, all related to helping the job seeking public be &nbsp\;better prepared to ace the interview process\, present their best qualities\, and get hired.&nbsp\;</span>
LOCATION:The Chamber Office 903 N. Keller Drive Effingham\, Illinois 62401
UID:e.1548.5592
SEQUENCE:3
DTSTAMP:20260423T053914Z
URL:http://business.effinghamcountychamber.com/events/details/workforce-wednesday-class-hire-me-5592
END:VEVENT

END:VCALENDAR
