BEGIN:VCALENDAR
VERSION:2.0
PRODID:-//ChamberMaster//Event Calendar 2.0//EN
METHOD:PUBLISH
X-PUBLISHED-TTL:P3D
REFRESH-INTERVAL:P3D
CALSCALE:GREGORIAN
BEGIN:VEVENT
DTSTART:20251217T140000Z
DTEND:20251217T150000Z
X-MICROSOFT-CDO-ALLDAYEVENT:FALSE
SUMMARY:Workforce Development
DESCRIPTION:Workforce Development
X-ALT-DESC;FMTTYPE=text/html:<span style="font-family:arial\,sans-serif\;"><span style="font-size:12.0pt\;">Workforce Development</span></span><br />\n&nbsp\;
LOCATION:Chamber Office 903 N. Keller Drive Effingham\, IL 62401
UID:e.1548.11079
SEQUENCE:3
DTSTAMP:20260423T225951Z
URL:http://business.effinghamcountychamber.com/events/details/workforce-development-11079
END:VEVENT

END:VCALENDAR
