BEGIN:VCALENDAR
VERSION:2.0
PRODID:-//ChamberMaster//Event Calendar 2.0//EN
METHOD:PUBLISH
X-PUBLISHED-TTL:P3D
REFRESH-INTERVAL:P3D
CALSCALE:GREGORIAN
BEGIN:VEVENT
DTSTART:20170217T143000Z
DTEND:20170217T160000Z
X-MICROSOFT-CDO-ALLDAYEVENT:FALSE
SUMMARY:Vision 2030 Meeting
DESCRIPTION:Meeting of the Vision 2030 Committee
X-ALT-DESC;FMTTYPE=text/html:Meeting of the Vision 2030 Committee
LOCATION:HSHS St Anthony's Auditorium
UID:e.1548.4976
SEQUENCE:3
DTSTAMP:20260422T034440Z
URL:http://business.effinghamcountychamber.com/events/details/vision-2030-meeting-4976
END:VEVENT

END:VCALENDAR
