BEGIN:VCALENDAR
VERSION:2.0
PRODID:-//ChamberMaster//Event Calendar 2.0//EN
METHOD:PUBLISH
X-PUBLISHED-TTL:P3D
REFRESH-INTERVAL:P3D
CALSCALE:GREGORIAN
BEGIN:VEVENT
DTSTART:20170131T010000Z
DTEND:20170131T020000Z
X-MICROSOFT-CDO-ALLDAYEVENT:FALSE
SUMMARY:Uncorked Book Discussion
DESCRIPTION:Uncorked Book Discussion We are Called to Rise by Laura McBride Monday\, January 30 7 p.m. Village Wine Store "Your heart will break then soar" (Redbook) when\, far from the neon lights of the Vegas strip\, three lives collide in a split-second mistake and a child's fate hangs in the balance. See our Circulation Desk to pick up a copy of the book. Registration Required.
X-ALT-DESC;FMTTYPE=text/html:Uncorked Book Discussion We are Called to Rise by Laura McBride Monday\, January 30 7 p.m. Village Wine Store &ldquo\;Your heart will break&hellip\;then soar&rdquo\; (Redbook) when\, far from the neon lights of the Vegas strip\, three lives collide in a split-second mistake and a child&rsquo\;s fate hangs in the balance. See our Circulation Desk to pick up a copy of the book. Registration Required.
LOCATION:Village Wine & Gift Shop 109 S Banker\, Effingham
UID:e.1548.4728
SEQUENCE:3
DTSTAMP:20260424T084417Z
URL:http://business.effinghamcountychamber.com/events/details/uncorked-book-discussion-4728
END:VEVENT

END:VCALENDAR
