BEGIN:VCALENDAR
VERSION:2.0
PRODID:-//ChamberMaster//Event Calendar 2.0//EN
METHOD:PUBLISH
X-PUBLISHED-TTL:P3D
REFRESH-INTERVAL:P3D
CALSCALE:GREGORIAN
BEGIN:VEVENT
DTSTART:20170507T173000Z
DTEND:20170507T210000Z
X-MICROSOFT-CDO-ALLDAYEVENT:FALSE
SUMMARY:Teutopolis Monastery Museum Opening
DESCRIPTION:Besides its collection of articles used by the Franciscan Friars\, the Museum is also known for Bibles and books in different languages\, some from the 1700's. The "pioneer wing" features items used by early Teutopolis pioneers\, including farm tools\, furniture\, clocks\, quilts\, toys\, various household and grocery store items. These articles are on display in the former "cells" or bedrooms of the Novices.  The tour also includes the Mausoleum and St. Francis church with stained glass windows which depict highlights in the life of St. Francis of Assisi. Volunteers are available along the tour to explain displays and assist visitors
X-ALT-DESC;FMTTYPE=text/html:Besides its collection of articles used by the Franciscan Friars\, the Museum is also known for Bibles and books in different languages\, some from the 1700&rsquo\;s. The &ldquo\;pioneer wing&rdquo\; features items used by early Teutopolis pioneers\, including farm tools\, furniture\, clocks\, quilts\, toys\, various household and grocery store items. These articles are on display in the former &ldquo\;cells&rdquo\; or bedrooms of the Novices.&nbsp\; The tour also includes the Mausoleum and St. Francis church with stained glass windows which depict highlights in the life of St. Francis of Assisi. Volunteers are available along the tour to explain displays and assist visitors
LOCATION:The Museum\, located behind St. Francis Church in Teutopolis\, IL\, is housed on the second floor in the former Franciscan Novitiate building.
UID:e.1548.5139
SEQUENCE:3
DTSTAMP:20260421T004614Z
URL:http://business.effinghamcountychamber.com/events/details/teutopolis-monastery-museum-opening-5139
END:VEVENT

END:VCALENDAR
