BEGIN:VCALENDAR
VERSION:2.0
PRODID:-//ChamberMaster//Event Calendar 2.0//EN
METHOD:PUBLISH
X-PUBLISHED-TTL:P3D
REFRESH-INTERVAL:P3D
CALSCALE:GREGORIAN
BEGIN:VEVENT
DTSTART:20170608T170000Z
DTEND:20170608T180000Z
X-MICROSOFT-CDO-ALLDAYEVENT:FALSE
SUMMARY:"Taking Effingham to the Next Level"
DESCRIPTION:Please join us for a noon Lunch & Learn discussion:  "Dream Big:  Taking Effingham to the Next Level"\n\nAttendees will view a 13 minute video highlighting how the nature of work is evolving globally.\n\nRyan Ervin\, Lake Land Adjunct Instructor and Effingham High School History Teacher\, will facilitate a discussion identifying how the Effingham community can best respond and increase the future-building capacity for Effingham and the surrounding communities.  \n\n\n\nRegistration is required.
X-ALT-DESC;FMTTYPE=text/html:<strong><span style="font-size:14px\;">Please join us for a noon Lunch &amp\; Learn discussion: &nbsp\;</span></strong><span style="font-size:16px\;"><strong>&quot\;Dream Big: &nbsp\;Taking Effingham to the Next Level&quot\;</strong></span><br />\nAttendees will view a 13 minute video highlighting how the nature of work is evolving globally.<br />\nRyan Ervin\, Lake Land Adjunct Instructor and Effingham High School History Teacher\, will facilitate a discussion identifying how the Effingham community can best respond and increase the future-building capacity for Effingham and the surrounding communities. &nbsp\;<br />\n<br />\nRegistration is required.
LOCATION:Effingham Public Library - Workman Room 200 N Third Street\, Effingham
UID:e.1548.5280
SEQUENCE:3
DTSTAMP:20260421T124049Z
URL:http://business.effinghamcountychamber.com/events/details/taking-effingham-to-the-next-level-5280
END:VEVENT

END:VCALENDAR
