BEGIN:VCALENDAR
VERSION:2.0
PRODID:-//ChamberMaster//Event Calendar 2.0//EN
METHOD:PUBLISH
X-PUBLISHED-TTL:P3D
REFRESH-INTERVAL:P3D
CALSCALE:GREGORIAN
BEGIN:VEVENT
DTSTART:20260326T213000Z
DTEND:20260327T003000Z
X-MICROSOFT-CDO-ALLDAYEVENT:FALSE
SUMMARY:Swing into Spring Social
DESCRIPTION:Mark your calendar and get ready for a fun\, relaxed evening of good food\, great people\, and a little friendly competition.\n\nEnjoy tasty appetizers\, keg beer\, and plenty of networking as we bring back the always-entertaining Bartending Challenge\, where teams compete to collect the most tips and earn ultimate bragging rights.\n\nOur raffle will be packed with prizes generously donated by Chamber members. Bonus: wear your favorite sports jersey and score a free raffle ticket.\n\nNew this year\, we're also adding an online auction filled with great items so even more people can join in on the fun\, whether they attend in person or bid from home.\n\nWe're currently seeking sponsors\, raffle donations\, and local restaurants willing to donate appetizers. It's a great opportunity to showcase your business while supporting a meaningful cause.\n\nProceeds from the event will go toward creating a new Trades\, Skills & Manufacturing Scholarship helping connect local students with real-world career opportunities.
X-ALT-DESC;FMTTYPE=text/html:<p class="x_elementToProof">Mark your calendar and get ready for a fun\, relaxed evening of good food\, great people\, and a little friendly competition.</p>\n\n<p class="x_elementToProof">Enjoy tasty appetizers\, keg beer\, and plenty of networking as we bring back the always-entertaining Bartending Challenge\, where teams compete to collect the most tips and earn ultimate bragging rights.</p>\n\n<p class="x_elementToProof">Our raffle&nbsp\;will be packed with prizes generously donated by Chamber members. <strong>Bonus:</strong> wear your favorite sports jersey and score a free raffle ticket.</p>\n\n<p class="x_elementToProof">New this year\, we&rsquo\;re also adding an online auction&nbsp\;filled with great items so even more people can join in on the fun\, whether they attend in person or bid from home.</p>\n\n<p class="x_elementToProof">We&rsquo\;re currently seeking sponsors\, raffle donations\, and local restaurants willing to donate appetizers. It&rsquo\;s a great opportunity to showcase your business while supporting a meaningful cause.</p>\n\n<p data-end="1173" data-start="1004"><em>Proceeds from the event will go toward creating a new Trades\, Skills &amp\; Manufacturing Scholarship&mdash\;helping connect local students with real-world career opportunities.</em></p>\n
LOCATION:Cardinal Golf Course
UID:e.1548.11376
SEQUENCE:3
DTSTAMP:20260423T183237Z
URL:http://business.effinghamcountychamber.com/events/details/swing-into-spring-social-11376
END:VEVENT

END:VCALENDAR
