BEGIN:VCALENDAR
VERSION:2.0
PRODID:-//ChamberMaster//Event Calendar 2.0//EN
METHOD:PUBLISH
X-PUBLISHED-TTL:P3D
REFRESH-INTERVAL:P3D
CALSCALE:GREGORIAN
BEGIN:VEVENT
DTSTART:20170105T160000Z
DTEND:20170105T170000Z
X-MICROSOFT-CDO-ALLDAYEVENT:FALSE
SUMMARY:SWAG - Seniors With Attitude Group
DESCRIPTION:Join our social group for Seniors on Thursday\, January 5 at 10 am. Monthly Door Prize! No Registration Required.
X-ALT-DESC;FMTTYPE=text/html:Join our social group for Seniors on Thursday\, January 5 at 10 am. Monthly Door Prize! No Registration Required.
LOCATION:Effingham Public Library - Luttrell Room 200 N Third St\, Effingham
UID:e.1548.4730
SEQUENCE:3
DTSTAMP:20260424T050138Z
URL:http://business.effinghamcountychamber.com/events/details/swag-seniors-with-attitude-group-4730
END:VEVENT

END:VCALENDAR
