BEGIN:VCALENDAR
VERSION:2.0
PRODID:-//ChamberMaster//Event Calendar 2.0//EN
METHOD:PUBLISH
X-PUBLISHED-TTL:P3D
REFRESH-INTERVAL:P3D
CALSCALE:GREGORIAN
BEGIN:VEVENT
DTSTART:20171021T220000Z
DTEND:20171022T020000Z
X-MICROSOFT-CDO-ALLDAYEVENT:FALSE
SUMMARY:SNAP Dance
DESCRIPTION:Dance for Special Needs kids and kids of all ages and their families. DJ\, food\, prizes and games at the event. Free admittance
X-ALT-DESC;FMTTYPE=text/html:Dance for Special Needs kids and kids of all ages and their families. DJ\, food\, prizes and games at the event. Free admittance
LOCATION:Effingham Elks Lodge on Banker in front of the mall
UID:e.1548.5792
SEQUENCE:3
DTSTAMP:20260424T055008Z
URL:http://business.effinghamcountychamber.com/events/details/snap-dance-5792
END:VEVENT

END:VCALENDAR
