BEGIN:VCALENDAR
VERSION:2.0
PRODID:-//ChamberMaster//Event Calendar 2.0//EN
METHOD:PUBLISH
X-PUBLISHED-TTL:P3D
REFRESH-INTERVAL:P3D
CALSCALE:GREGORIAN
BEGIN:VEVENT
DTSTART:20170126T160000Z
DTEND:20170126T170000Z
X-MICROSOFT-CDO-ALLDAYEVENT:FALSE
SUMMARY:Smart Energy Workshop
DESCRIPTION:Understanding incentives\, rebates\, hourly pricing\, and alternative energy suppliers offered by utility companies can be confusing. Christina Krost of Faith in Place and Scott Allen of Citizen's Utility Board will explain how to take advantage of these programs to save money and maximize energy efficiency. This Smart Energy Workshop will empower each individual to impact their energy consumption\, reduce bills\, and steward the environment.
X-ALT-DESC;FMTTYPE=text/html:Understanding incentives\, rebates\, hourly pricing\, and alternative energy suppliers offered by utility companies can be confusing. Christina Krost of Faith in Place and Scott Allen of Citizen&rsquo\;s Utility Board will explain how to take advantage of these programs to save money and maximize energy efficiency. This Smart Energy Workshop will empower each individual to impact their energy consumption\, reduce bills\, and steward the environment.
LOCATION:Effingham Public Library - Luttrell Room 200 N Third St\, Effingham
UID:e.1548.4731
SEQUENCE:3
DTSTAMP:20260421T205754Z
URL:http://business.effinghamcountychamber.com/events/details/smart-energy-workshop-4731
END:VEVENT

END:VCALENDAR
