BEGIN:VCALENDAR
VERSION:2.0
PRODID:-//ChamberMaster//Event Calendar 2.0//EN
METHOD:PUBLISH
X-PUBLISHED-TTL:P3D
REFRESH-INTERVAL:P3D
CALSCALE:GREGORIAN
BEGIN:VEVENT
DTSTART:20170617T140000Z
DTEND:20170617T230000Z
X-MICROSOFT-CDO-ALLDAYEVENT:FALSE
SUMMARY:Sail with Bill & Friends
DESCRIPTION:If you...\n\nHave you ever had an interest in seeing what sailing is all about?\n\nThink you might like to try sailing?\n\nNeed a chance to get away for part of the weekend?\n\nLove being out on the water on a beautiful summer day?\n\n\n\nHere's your chance!!! We'll have our Y-Flyer Sailboats ready for an awesome sailing experience!\n\nYour sailing experience includes:\n\n- Touring the Clubhouse\, golf cart ride to the point and the docks\, learning about the Y-Flyer and sailing\, experiencing sailing from relaxed sailing to some simulated racing\, and pontoon boat rides to view sailing from the water\n\nCall Bill with any questions: 217-821-6400
X-ALT-DESC;FMTTYPE=text/html:<p>If you...<br />\nHave you ever had an interest in seeing what sailing is all about?<br />\nThink you might like to try sailing?<br />\nNeed a chance to get away for part of the weekend?<br />\nLove being out on the water on a beautiful summer day?<br />\n<br />\nHere&#39\;s your chance!!! We&#39\;ll have our Y-Flyer Sailboats ready for an awesome sailing experience!<br />\nYour sailing experience includes:<br />\n- Touring the Clubhouse\, golf cart ride to the point and the docks\, learning about the Y-Flyer and sailing\, experiencing sailing from relaxed sailing to some simulated racing\, and pontoon boat rides to view sailing from the water</p>\n\n<p>Call Bill with any questions: 217-821-6400</p>\n
LOCATION:Lake Mattoon Sailing Association 3635 County Road 903 North Neoga\, IL 62447
UID:e.1548.5140
SEQUENCE:3
DTSTAMP:20260420T174050Z
URL:http://business.effinghamcountychamber.com/events/details/sail-with-bill-friends-5140
END:VEVENT

END:VCALENDAR
