BEGIN:VCALENDAR
VERSION:2.0
PRODID:-//ChamberMaster//Event Calendar 2.0//EN
METHOD:PUBLISH
X-PUBLISHED-TTL:P3D
REFRESH-INTERVAL:P3D
CALSCALE:GREGORIAN
BEGIN:VEVENT
DTSTART:20251216T160000Z
DTEND:20251216T163000Z
X-MICROSOFT-CDO-ALLDAYEVENT:FALSE
SUMMARY:Ribbon Cutting - South Central FS
DESCRIPTION:Altamont Overhead Door & EAHC Structures have been rebranded as South Central Structures & Doors and are located at 400 S Willow St\, Effingham.
X-ALT-DESC;FMTTYPE=text/html:Altamont Overhead Door &amp\; EAHC Structures have been rebranded as South Central Structures &amp\; Doors and are located at 400 S Willow St\, Effingham.
LOCATION:South Central Structures & Doors 400 S Willow St.\, Effingham
UID:e.1548.11311
SEQUENCE:3
DTSTAMP:20260423T230411Z
URL:http://business.effinghamcountychamber.com/events/details/ribbon-cutting-south-central-fs-11311
END:VEVENT

END:VCALENDAR
