BEGIN:VCALENDAR
VERSION:2.0
PRODID:-//ChamberMaster//Event Calendar 2.0//EN
METHOD:PUBLISH
X-PUBLISHED-TTL:P3D
REFRESH-INTERVAL:P3D
CALSCALE:GREGORIAN
BEGIN:VEVENT
DTSTART:20260115T220000Z
DTEND:20260115T223000Z
X-MICROSOFT-CDO-ALLDAYEVENT:FALSE
SUMMARY:Ribbon Cutting - Modern Spine and Wellness
DESCRIPTION:We're excited to welcome Modern Spine and Wellness as our newest member! Join us for their ribbon cutting ceremony.
X-ALT-DESC;FMTTYPE=text/html:We&rsquo\;re excited to welcome Modern Spine and Wellness as our newest member! Join us for their ribbon cutting ceremony.
LOCATION:100 Greenview Dr\, Suite A\, Effingham
UID:e.1548.11313
SEQUENCE:3
DTSTAMP:20260424T143854Z
URL:http://business.effinghamcountychamber.com/events/details/ribbon-cutting-modern-spine-and-wellness-11313
END:VEVENT

END:VCALENDAR
