BEGIN:VCALENDAR
VERSION:2.0
PRODID:-//ChamberMaster//Event Calendar 2.0//EN
METHOD:PUBLISH
X-PUBLISHED-TTL:P3D
REFRESH-INTERVAL:P3D
CALSCALE:GREGORIAN
BEGIN:VEVENT
DTSTART:20260304T230000Z
DTEND:20260305T010000Z
X-MICROSOFT-CDO-ALLDAYEVENT:FALSE
SUMMARY:Repking Eye Care Business After Hours
DESCRIPTION:
X-ALT-DESC;FMTTYPE=text/html:
LOCATION:
UID:e.1548.11378
SEQUENCE:3
DTSTAMP:20260423T183631Z
URL:http://business.effinghamcountychamber.com/events/details/repking-eye-care-business-after-hours-11378
END:VEVENT

END:VCALENDAR
