BEGIN:VCALENDAR
VERSION:2.0
PRODID:-//ChamberMaster//Event Calendar 2.0//EN
METHOD:PUBLISH
X-PUBLISHED-TTL:P3D
REFRESH-INTERVAL:P3D
CALSCALE:GREGORIAN
BEGIN:VEVENT
DTSTART:20170412T140000Z
DTEND:20170412T173000Z
X-MICROSOFT-CDO-ALLDAYEVENT:FALSE
SUMMARY:Refresh Leadership Live Simulcast
DESCRIPTION:This half-day event was designed with leaders like you in mind. Join us to learn more about the power of great leadership and take away new insight on how to refresh\, energize\, and motivate the people you lead.
X-ALT-DESC;FMTTYPE=text/html:This half-day event was designed with leaders like you in mind. Join us to learn more about the power of great leadership and take away new insight on how to refresh\, energize\, and motivate the people you lead.
LOCATION:Effingham Performance Center
UID:e.1548.5091
SEQUENCE:3
DTSTAMP:20260423T000224Z
URL:http://business.effinghamcountychamber.com/events/details/refresh-leadership-live-simulcast-5091
END:VEVENT

END:VCALENDAR
