BEGIN:VCALENDAR
VERSION:2.0
PRODID:-//ChamberMaster//Event Calendar 2.0//EN
METHOD:PUBLISH
X-PUBLISHED-TTL:P3D
REFRESH-INTERVAL:P3D
CALSCALE:GREGORIAN
BEGIN:VEVENT
DTSTART:20170323T170000Z
DTEND:20170323T180000Z
X-MICROSOFT-CDO-ALLDAYEVENT:FALSE
SUMMARY:Professional Development Luncheon
DESCRIPTION:Professional Development Luncheon\n\n\n\nSpeaker:  Cheryl Mitchell
X-ALT-DESC;FMTTYPE=text/html:<strong><span style="font-size:18px\;">Professional Development Luncheon</span></strong><br />\n<br />\n<strong><span style="font-size:16px\;">Speaker: &nbsp\;Cheryl Mitchell</span></strong>
LOCATION:Dieterich Bank Corporate Office - Education Room 300 Sur Woods Drive\, Effingham
UID:e.1548.4749
SEQUENCE:3
DTSTAMP:20260422T131044Z
URL:http://business.effinghamcountychamber.com/events/details/professional-development-luncheon-4749
END:VEVENT

END:VCALENDAR
