BEGIN:VCALENDAR
VERSION:2.0
PRODID:-//ChamberMaster//Event Calendar 2.0//EN
METHOD:PUBLISH
X-PUBLISHED-TTL:P3D
REFRESH-INTERVAL:P3D
CALSCALE:GREGORIAN
BEGIN:VEVENT
DTSTART;VALUE=DATE:20170201
DTEND;VALUE=DATE:20170202
TRANSP:TRANSPARENT
X-MICROSOFT-CDO-ALLDAYEVENT:TRUE
SUMMARY:Peru & Machu Picchu Chamber Trip Final Deadline!
DESCRIPTION:Join the Effingham County Chamber of Commerce on a 9 day trip to Peru &Machu Picchu\n\n\n\nTrip Brochure\n\n\n\nTrip Highlights include:\n\n	Machu Picchu Excursion\n	Lima City Tour\n	Local "Casa" Hosted Dinner\n	The Sacred Valley\n	Pisac\n	Awanakancha Breeding Center\n	Cuzco City Tour\n	Andean Folklore Show\n\n\n\nReservations are now closed!
X-ALT-DESC;FMTTYPE=text/html:Join the Effingham County Chamber of Commerce on a 9 day trip to Peru &amp\;Machu Picchu<br />\n<br />\n<a href="https://chambermaster.blob.core.windows.net/userfiles/UserFiles/chambers/1548/File/PERUMACHUPICCHU-EffinghamCountyCofC-18APR171.pdf" style="line-height: 20.8px\;">Trip Brochure</a><br />\n<br />\nTrip Highlights include:\n<ul>\n	<li>Machu Picchu Excursion</li>\n	<li>Lima City Tour</li>\n	<li>Local &quot\;Casa&quot\; Hosted Dinner</li>\n	<li>The Sacred Valley</li>\n	<li>Pisac</li>\n	<li>Awanakancha Breeding Center</li>\n	<li>Cuzco City Tour</li>\n	<li>Andean Folklore Show</li>\n</ul>\n<br />\n<strong>Reservations are now closed!</strong>
LOCATION:Peru & Machu Picchu
UID:e.1548.4700
SEQUENCE:3
DTSTAMP:20260425T112709Z
URL:http://business.effinghamcountychamber.com/events/details/peru-machu-picchu-chamber-trip-final-deadline-4700
END:VEVENT

END:VCALENDAR
