BEGIN:VCALENDAR
VERSION:2.0
PRODID:-//ChamberMaster//Event Calendar 2.0//EN
METHOD:PUBLISH
X-PUBLISHED-TTL:P3D
REFRESH-INTERVAL:P3D
CALSCALE:GREGORIAN
BEGIN:VEVENT
DTSTART:20260217T200000Z
DTEND:20260217T201500Z
X-MICROSOFT-CDO-ALLDAYEVENT:FALSE
SUMMARY:Non-Profit of the Quarter Presentation - Poss Music Works
DESCRIPTION:
X-ALT-DESC;FMTTYPE=text/html:
LOCATION:1915 S Banker St\, Effingham
UID:e.1548.11357
SEQUENCE:3
DTSTAMP:20260423T201654Z
URL:http://business.effinghamcountychamber.com/events/details/non-profit-of-the-quarter-presentation-poss-music-works-11357
END:VEVENT

END:VCALENDAR
