BEGIN:VCALENDAR
VERSION:2.0
PRODID:-//ChamberMaster//Event Calendar 2.0//EN
METHOD:PUBLISH
X-PUBLISHED-TTL:P3D
REFRESH-INTERVAL:P3D
CALSCALE:GREGORIAN
BEGIN:VEVENT
DTSTART:20260126T200000Z
DTEND:20260126T201500Z
X-MICROSOFT-CDO-ALLDAYEVENT:FALSE
SUMMARY:New Member Picture - Willenborg's Reconditioning
DESCRIPTION:
X-ALT-DESC;FMTTYPE=text/html:
LOCATION:Willenborg's Reconditioning 116 W Main St\, Teutopolis
UID:e.1548.11335
SEQUENCE:3
DTSTAMP:20260423T213221Z
URL:http://business.effinghamcountychamber.com/events/details/new-member-picture-willenborg-s-reconditioning-11335
END:VEVENT

END:VCALENDAR
