BEGIN:VCALENDAR
VERSION:2.0
PRODID:-//ChamberMaster//Event Calendar 2.0//EN
METHOD:PUBLISH
X-PUBLISHED-TTL:P3D
REFRESH-INTERVAL:P3D
CALSCALE:GREGORIAN
BEGIN:VEVENT
DTSTART:20260423T180000Z
DTEND:20260423T181500Z
X-MICROSOFT-CDO-ALLDAYEVENT:FALSE
SUMMARY:New Member Picture - Title Solutions
DESCRIPTION:
X-ALT-DESC;FMTTYPE=text/html:
LOCATION:1105 W St. Anthony\, Unit B\, Effingham
UID:e.1548.11390
SEQUENCE:3
DTSTAMP:20260422T010957Z
URL:http://business.effinghamcountychamber.com/events/details/new-member-picture-title-solutions-11390
END:VEVENT

END:VCALENDAR
