BEGIN:VCALENDAR
VERSION:2.0
PRODID:-//ChamberMaster//Event Calendar 2.0//EN
METHOD:PUBLISH
X-PUBLISHED-TTL:P3D
REFRESH-INTERVAL:P3D
CALSCALE:GREGORIAN
BEGIN:VEVENT
DTSTART:20260430T150000Z
DTEND:20260430T151500Z
X-MICROSOFT-CDO-ALLDAYEVENT:FALSE
SUMMARY:New Member Picture - The Flower Patch
DESCRIPTION:
X-ALT-DESC;FMTTYPE=text/html:
LOCATION:11434 E. 1550th Ave\, Effingham
UID:e.1548.11391
SEQUENCE:3
DTSTAMP:20260422T010956Z
URL:http://business.effinghamcountychamber.com/events/details/new-member-picture-the-flower-patch-11391
END:VEVENT

END:VCALENDAR
