BEGIN:VCALENDAR
VERSION:2.0
PRODID:-//ChamberMaster//Event Calendar 2.0//EN
METHOD:PUBLISH
X-PUBLISHED-TTL:P3D
REFRESH-INTERVAL:P3D
CALSCALE:GREGORIAN
BEGIN:VEVENT
DTSTART:20260319T150000Z
DTEND:20260319T151500Z
X-MICROSOFT-CDO-ALLDAYEVENT:FALSE
SUMMARY:New Member Picture - The Donsbach-Meinhart Agency
DESCRIPTION:
X-ALT-DESC;FMTTYPE=text/html:
LOCATION:410 W Jefferson\, Effingham
UID:e.1548.11379
SEQUENCE:3
DTSTAMP:20260423T183749Z
URL:http://business.effinghamcountychamber.com/events/details/new-member-picture-the-donsbach-meinhart-agency-11379
END:VEVENT

END:VCALENDAR
