BEGIN:VCALENDAR
VERSION:2.0
PRODID:-//ChamberMaster//Event Calendar 2.0//EN
METHOD:PUBLISH
X-PUBLISHED-TTL:P3D
REFRESH-INTERVAL:P3D
CALSCALE:GREGORIAN
BEGIN:VEVENT
DTSTART:20260428T203000Z
DTEND:20260428T204500Z
X-MICROSOFT-CDO-ALLDAYEVENT:FALSE
SUMMARY:New Member Picture - Effingham Army Recruiting
DESCRIPTION:
X-ALT-DESC;FMTTYPE=text/html:
LOCATION:1001 Ave of Mid America\, Effingham
UID:e.1548.11389
SEQUENCE:3
DTSTAMP:20260421T235131Z
URL:http://business.effinghamcountychamber.com/events/details/new-member-picture-effingham-army-recruiting-11389
END:VEVENT

END:VCALENDAR
