BEGIN:VCALENDAR
VERSION:2.0
PRODID:-//ChamberMaster//Event Calendar 2.0//EN
METHOD:PUBLISH
X-PUBLISHED-TTL:P3D
REFRESH-INTERVAL:P3D
CALSCALE:GREGORIAN
BEGIN:VEVENT
DTSTART:20260309T141500Z
DTEND:20260309T143000Z
X-MICROSOFT-CDO-ALLDAYEVENT:FALSE
SUMMARY:New Member Picture - D Lines Inc.
DESCRIPTION:Feel free to meet at the Chamber & carpool.  Be here by 8:50 am.
X-ALT-DESC;FMTTYPE=text/html:Feel free to meet at the Chamber &amp\; carpool.&nbsp\; Be here by 8:50 am.
LOCATION:2936 E 800th Ave\, Altamont
UID:e.1548.11381
SEQUENCE:3
DTSTAMP:20260423T183632Z
URL:http://business.effinghamcountychamber.com/events/details/new-member-picture-d-lines-inc-11381
END:VEVENT

END:VCALENDAR
