BEGIN:VCALENDAR
VERSION:2.0
PRODID:-//ChamberMaster//Event Calendar 2.0//EN
METHOD:PUBLISH
X-PUBLISHED-TTL:P3D
REFRESH-INTERVAL:P3D
CALSCALE:GREGORIAN
BEGIN:VEVENT
DTSTART:20260206T180000Z
DTEND:20260206T190000Z
X-MICROSOFT-CDO-ALLDAYEVENT:FALSE
SUMMARY:Networking @ Noon - February 2026
DESCRIPTION:Join us for Networking @ Noon\, the refreshed version of our First Friday Networking Luncheon.\n\nThis lunchtime event brings Chamber members together to build relationships and engage with businesses from across Effingham County\, while supporting local restaurants.\n\nWhat to expect:\n\n\n	\n	Casual conversation over lunch\n	\n	\n	Interaction with fellow Chamber members\n	\n	\n	A rotating local eatery host\n	\n\n\nStep away from the office\, enjoy lunch\, and strengthen your business relationships within the community.\n \n\nPhoto & Video Disclaimer\n\nEffingham County Chamber (Chamber) reserves the right to use any photograph/video taken at any event sponsored by the Chamber\, without the expressed written permission of those included within the photograph/video. The Chamber may use the photograph/video in publications or other media material produced\, used\, or contracted by the Chamber\, including but not limited to brochures\, invitations\, books\, newspapers\, magazines\, television\, websites\, etc. If you do not wish to be photographed/video\, please inform the Chamber.\n\n \n\nAny person or organization not affiliated with Chamber may not use\, copy\, alter\, or modify Chamber photographs\, graphics\, videography\, or other similar reproductions and recordings without the advance written permission of an authorized designee from Chamber.
X-ALT-DESC;FMTTYPE=text/html:<div data-olk-copy-source="MailCompose" style="margin-top: 1em\; margin-bottom: 1em\; font-family: Aptos\, Aptos_EmbeddedFont\, Aptos_MSFontService\, Calibri\, Helvetica\, sans-serif\; font-size: 12pt\; color: rgb(0\, 0\, 0)\;">\n<div data-olk-copy-source="MailCompose" style="margin-top: 1em\; margin-bottom: 1em\; font-family: Aptos\, Aptos_EmbeddedFont\, Aptos_MSFontService\, Calibri\, Helvetica\, sans-serif\; font-size: 11pt\; color: rgb(0\, 0\, 0)\;">\n<div data-olk-copy-source="MailCompose" style="margin-top: 1em\; margin-bottom: 1em\; font-family: Aptos\, Aptos_EmbeddedFont\, Aptos_MSFontService\, Calibri\, Helvetica\, sans-serif\; font-size: 12pt\; color: rgb(0\, 0\, 0)\;">Join us for Networking @ Noon\, the refreshed version of our First Friday Networking Luncheon.</div>\n\n<div style="margin-top: 1em\; margin-bottom: 1em\; font-family: Aptos\, Aptos_EmbeddedFont\, Aptos_MSFontService\, Calibri\, Helvetica\, sans-serif\; font-size: 12pt\; color: rgb(0\, 0\, 0)\;">This lunchtime event&nbsp\;brings Chamber members together to build relationships and engage with businesses from across Effingham County\, while supporting local restaurants.</div>\n\n<div style="margin-top: 1em\; margin-bottom: 1em\; font-family: Aptos\, Aptos_EmbeddedFont\, Aptos_MSFontService\, Calibri\, Helvetica\, sans-serif\; font-size: 12pt\; color: rgb(0\, 0\, 0)\;"><strong>What to expect:</strong></div>\n\n<ul data-end="525" data-start="403">\n	<li style="font-family: Aptos\, Aptos_EmbeddedFont\, Aptos_MSFontService\, Calibri\, Helvetica\, sans-serif\; font-size: 12pt\; color: rgb(0\, 0\, 0)\;">\n	<div role="presentation" style="margin-top: 1em\; margin-bottom: 1em\;">Casual conversation&nbsp\;over lunch</div>\n	</li>\n	<li style="font-family: Aptos\, Aptos_EmbeddedFont\, Aptos_MSFontService\, Calibri\, Helvetica\, sans-serif\; font-size: 12pt\; color: rgb(0\, 0\, 0)\;">\n	<div role="presentation" style="margin-top: 1em\; margin-bottom: 1em\;">Interaction with fellow Chamber members</div>\n	</li>\n	<li style="font-family: Aptos\, Aptos_EmbeddedFont\, Aptos_MSFontService\, Calibri\, Helvetica\, sans-serif\; font-size: 12pt\; color: rgb(0\, 0\, 0)\;">\n	<div role="presentation" style="margin-top: 1em\; margin-bottom: 1em\;">A rotating local eatery host</div>\n	</li>\n</ul>\n\n<div style="margin-top: 1em\; margin-bottom: 1em\; font-family: Aptos\, Aptos_EmbeddedFont\, Aptos_MSFontService\, Calibri\, Helvetica\, sans-serif\; font-size: 12pt\; color: rgb(0\, 0\, 0)\;">Step away from the office\, enjoy lunch\, and strengthen your business relationships within the community.</div>\n&nbsp\;<br />\n<strong><em><u><span style="color:#242424\;"><span style="font-size:8.5pt\;">Photo &amp\; Video Disclaimer</span></span></u></em></strong><br />\n<em><span style="color:#242424\;"><span style="font-size:8.5pt\;">Effingham County Chamber (Chamber) reserves the right to use any photograph/video taken at any event sponsored by the Chamber\, without the expressed written permission of those included within the photograph/video. The Chamber may use the photograph/video in publications or other media material produced\, used\, or contracted by the Chamber\, including but not limited to brochures\, invitations\, books\, newspapers\, magazines\, television\, websites\, etc. If you do not wish to be photographed/video\, please inform the Chamber.</span></span></em><br />\n&nbsp\;<br />\n<em><span style="color:#242424\;"><span style="font-size:8.5pt\;">Any person or organization not affiliated with Chamber may not use\, copy\, alter\, or modify Chamber photographs\, graphics\, videography\, or other similar reproductions and recordings without the advance written permission of an authorized designee from Chamber.</span></span></em></div>\n</div>\n
LOCATION:Buffalo Wild Wings 1001 Avenue of Mid-America
UID:e.1548.11325
SEQUENCE:3
DTSTAMP:20260423T201427Z
URL:http://business.effinghamcountychamber.com/events/details/networking-noon-february-2026-11325
END:VEVENT

END:VCALENDAR
