BEGIN:VCALENDAR
VERSION:2.0
PRODID:-//ChamberMaster//Event Calendar 2.0//EN
METHOD:PUBLISH
X-PUBLISHED-TTL:P3D
REFRESH-INTERVAL:P3D
CALSCALE:GREGORIAN
BEGIN:VEVENT
DTSTART:20170103T190000Z
DTEND:20170103T210000Z
X-MICROSOFT-CDO-ALLDAYEVENT:FALSE
SUMMARY:Memoir Writing Group
DESCRIPTION:Join this group of writers as they focus on writing about their life story for their family and friends or just for themselves. This new writing group welcomes newcomers and all level of writers. Typically meeting for two hours\, participants are encouraged to bring writing that they've worked on to share with the group. At each meeting possible writing prompts are shared. Participants are encouraged to consider various aspects of their life story. The writing prompt or assignment to prepare for the January meeting is to write about "A Trip You've Taken." Each member may read their writing aloud. During the meeting\, participants also have 15 to 20 minutes to write about another topic that will be drawn from an envelope of prompt ideas. It\, too\, will be shared with the group.
X-ALT-DESC;FMTTYPE=text/html:Join this group of writers as they focus on writing about their life story for their family and friends or just for themselves. This new writing group welcomes newcomers and all level of writers. Typically meeting for two hours\, participants are encouraged to bring writing that they&rsquo\;ve worked on to share with the group. At each meeting possible writing prompts are shared. Participants are encouraged to consider various aspects of their life story. The writing prompt or assignment to prepare for the January meeting is to write about &ldquo\;A Trip You&#39\;ve Taken.&rdquo\; Each member may read their writing aloud. During the meeting\, participants also have 15 to 20 minutes to write about another topic that will be drawn from an envelope of prompt ideas. It\, too\, will be shared with the group.
LOCATION:Effingham Public Library - Luttrell Room 200 N Third St\, Effingham
UID:e.1548.4729
SEQUENCE:3
DTSTAMP:20260422T144453Z
URL:http://business.effinghamcountychamber.com/events/details/memoir-writing-group-4729
END:VEVENT

END:VCALENDAR
