BEGIN:VCALENDAR
VERSION:2.0
PRODID:-//ChamberMaster//Event Calendar 2.0//EN
METHOD:PUBLISH
X-PUBLISHED-TTL:P3D
REFRESH-INTERVAL:P3D
CALSCALE:GREGORIAN
BEGIN:VEVENT
DTSTART:20260310T133000Z
DTEND:20260310T143000Z
X-MICROSOFT-CDO-ALLDAYEVENT:FALSE
SUMMARY:Membership Development Committee Meeting
DESCRIPTION:**If unable to attend in person\, we can send you the zoom link.
X-ALT-DESC;FMTTYPE=text/html:**If unable to attend in person\, we can send you the zoom link.
LOCATION:Chamber Office 903 N Keller Drive\, Effingham
UID:e.1548.11382
SEQUENCE:3
DTSTAMP:20260423T183336Z
URL:http://business.effinghamcountychamber.com/events/details/membership-development-committee-meeting-11382
END:VEVENT

END:VCALENDAR
