BEGIN:VCALENDAR
VERSION:2.0
PRODID:-//ChamberMaster//Event Calendar 2.0//EN
METHOD:PUBLISH
X-PUBLISHED-TTL:P3D
REFRESH-INTERVAL:P3D
CALSCALE:GREGORIAN
BEGIN:VEVENT
DTSTART;VALUE=DATE:20171015
DTEND;VALUE=DATE:20171022
TRANSP:TRANSPARENT
X-MICROSOFT-CDO-ALLDAYEVENT:TRUE
SUMMARY:Maurices - Celebrating 40 years!
DESCRIPTION:Maurices is celebrating 40 years!! \n\nStop by the store between October 15 - 21st and register to win a $40 gift certificate!  Drawing will be held on October 21st at 5pm.
X-ALT-DESC;FMTTYPE=text/html:<strong><span style="font-size:18px\;">Maurices is celebrating 40 years!!&nbsp\;</span></strong><br />\n<span style="font-size:16px\;">Stop by the store between October 15 - 21st and register to win a $40 gift certificate! &nbsp\;Drawing will be held on October 21st&nbsp\;at 5pm.</span>
LOCATION:1605A Ford Avenue Effingham\, IL 62401
UID:e.1548.5779
SEQUENCE:3
DTSTAMP:20260424T032228Z
URL:http://business.effinghamcountychamber.com/events/details/maurices-celebrating-40-years-5779
END:VEVENT

END:VCALENDAR
