BEGIN:VCALENDAR
VERSION:2.0
PRODID:-//ChamberMaster//Event Calendar 2.0//EN
METHOD:PUBLISH
X-PUBLISHED-TTL:P3D
REFRESH-INTERVAL:P3D
CALSCALE:GREGORIAN
BEGIN:VEVENT
DTSTART:20171014T190000Z
DTEND:20171015T020000Z
X-MICROSOFT-CDO-ALLDAYEVENT:FALSE
SUMMARY:Marching Hearts Invitational
DESCRIPTION:Effingham High School marching band\, Reg Regiment hosts marching bands from across the state to compete. Enjoy the music\, color guard & marching performances of these hard-working high schools. Ample concessions include burgers\, pizza\, taco-in-a-bag & Culver's ice cream. Fun for the whole family!
X-ALT-DESC;FMTTYPE=text/html:Effingham High School marching band\, Reg Regiment hosts marching bands from across the state to compete. Enjoy the music\, color guard &amp\; marching performances of these hard-working high schools. Ample concessions include burgers\, pizza\, taco-in-a-bag &amp\; Culver&#39\;s ice cream. Fun for the whole family!
LOCATION:Effingham High School Klosterman Field
UID:e.1548.5757
SEQUENCE:3
DTSTAMP:20260424T021303Z
URL:http://business.effinghamcountychamber.com/events/details/marching-hearts-invitational-5757
END:VEVENT

END:VCALENDAR
