BEGIN:VCALENDAR
VERSION:2.0
PRODID:-//ChamberMaster//Event Calendar 2.0//EN
METHOD:PUBLISH
X-PUBLISHED-TTL:P3D
REFRESH-INTERVAL:P3D
CALSCALE:GREGORIAN
BEGIN:VEVENT
DTSTART:20171005T131500Z
DTEND:20171005T200000Z
X-MICROSOFT-CDO-ALLDAYEVENT:FALSE
SUMMARY:Manufacturing Day 2017
DESCRIPTION:Local Manufacturers will join with manufacturers across the nation to host workplace tours promoting careers in manufacturing for students from the region who are Juniors or Seniors in High School. \n\n\nLunch is open to the public and is $15 per person.\n\n\n\nPlease register online or call the Chamber office at 217.342.4147.
X-ALT-DESC;FMTTYPE=text/html:<div style="text-align: center\;">Local Manufacturers will join with manufacturers across the nation to host workplace tours promoting careers in manufacturing for students from the region who are Juniors or Seniors in High School.&nbsp\;</div>\n<br />\nLunch is open to the public and is $15 per person.<br />\n<br />\nPlease register online or call the Chamber office at 217.342.4147.<br />\n<br />\n&nbsp\;
LOCATION:Tours for Students will be pre-arranged through their schools and will initiate at the Effingham Event Center (Formerly the KC Hall) in Effingham\, Illinois. Persons from the general public who would like to tour manufacturing facilities should contact JoAnn Sasse Givens-Director of Workforce Development ad jgivens@effinghamcountychamber.com.
UID:e.1548.5308
SEQUENCE:3
DTSTAMP:20260423T203318Z
URL:http://business.effinghamcountychamber.com/events/details/manufacturing-day-2017-5308
END:VEVENT

END:VCALENDAR
