BEGIN:VCALENDAR
VERSION:2.0
PRODID:-//ChamberMaster//Event Calendar 2.0//EN
METHOD:PUBLISH
X-PUBLISHED-TTL:P3D
REFRESH-INTERVAL:P3D
CALSCALE:GREGORIAN
BEGIN:VEVENT
DTSTART:20170523T230000Z
DTEND:20170524T010000Z
X-MICROSOFT-CDO-ALLDAYEVENT:FALSE
SUMMARY:Ladies Night Out
DESCRIPTION:Please Join Us for Our Ladies Night Out - " Red Carpet Event."\n\n\n\nBring your girl friends to a fun-filled night for all ages!!\n\n\n\nMeet Your Shopping & Pampering Pleasures by visiting the 16 Vendors:\n\n	Branches\n	Roxy & Lola Jewelry\n	Thirty-One\n	Norwex\n	Tupperware\n	Isagenix\n	Fire & Ice\n	Avon\n	Lula Roe Clothing\n	Usborne Books\n	Personalized Family Prints & Gifts\n	Lips Sense\n	Beach Body\n	Pink Zebra\n	Rodan and Fields\n	Dove Chocolates\n\nDoor prizes with each vendor\n\nGrand Prize - Luke Bryan Tickets\; donated by Stanfield Chiropractic
X-ALT-DESC;FMTTYPE=text/html:<span style="font-size:18px\;"><span style="font-family:tahoma\;"><strong>Please Join Us for Our Ladies Night Out - &quot\; Red Carpet Event.&quot\;<br />\n<br />\nBring your girl friends to a fun-filled night for all ages!!<br />\n<br />\nMeet Your Shopping &amp\; Pampering Pleasures by visiting the 16 Vendors:</strong></span></span>\n<ul>\n	<li><span style="font-size:18px\;"><span style="font-family:tahoma\;"><strong>Branches</strong></span></span></li>\n	<li><font face="tahoma"><span style="font-size: 18px\;"><b>Roxy &amp\; Lola Jewelry</b></span></font></li>\n	<li><font face="tahoma"><span style="font-size: 18px\;"><b>Thirty-One</b></span></font></li>\n	<li><font face="tahoma"><span style="font-size: 18px\;"><b>Norwex</b></span></font></li>\n	<li><font face="tahoma"><span style="font-size: 18px\;"><b>Tupperware</b></span></font></li>\n	<li><font face="tahoma"><span style="font-size: 18px\;"><b>Isagenix</b></span></font></li>\n	<li><font face="tahoma"><span style="font-size: 18px\;"><b>Fire &amp\; Ice</b></span></font></li>\n	<li><font face="tahoma"><span style="font-size: 18px\;"><b>Avon</b></span></font></li>\n	<li><font face="tahoma"><span style="font-size: 18px\;"><b>Lula Roe Clothing</b></span></font></li>\n	<li><font face="tahoma"><span style="font-size: 18px\;"><b>Usborne Books</b></span></font></li>\n	<li><font face="tahoma"><span style="font-size: 18px\;"><b>Personalized Family Prints &amp\; Gifts</b></span></font></li>\n	<li><font face="tahoma"><span style="font-size: 18px\;"><b>Lips Sense</b></span></font></li>\n	<li><font face="tahoma"><span style="font-size: 18px\;"><b>Beach Body</b></span></font></li>\n	<li><font face="tahoma"><span style="font-size: 18px\;"><b>Pink Zebra</b></span></font></li>\n	<li><font face="tahoma"><span style="font-size: 18px\;"><b>Rodan and Fields</b></span></font></li>\n	<li><font face="tahoma"><span style="font-size: 18px\;"><b>Dove Chocolates</b></span></font></li>\n</ul>\n<font face="tahoma"><span style="font-size: 18px\;"><b>Door prizes with each vendor<br />\nGrand Prize - Luke Bryan Tickets\; donated by Stanfield Chiropractic</b></span></font><br />\n&nbsp\;
LOCATION:Stanfield Chiropractic 414 W Jefferson Avenue\, Effingham (across from Martin's IGA)
UID:e.1548.5123
SEQUENCE:3
DTSTAMP:20260421T004643Z
URL:http://business.effinghamcountychamber.com/events/details/ladies-night-out-5123
END:VEVENT

END:VCALENDAR
