BEGIN:VCALENDAR
VERSION:2.0
PRODID:-//ChamberMaster//Event Calendar 2.0//EN
METHOD:PUBLISH
X-PUBLISHED-TTL:P3D
REFRESH-INTERVAL:P3D
CALSCALE:GREGORIAN
BEGIN:VEVENT
DTSTART:20170401T160000Z
DTEND:20170401T220000Z
X-MICROSOFT-CDO-ALLDAYEVENT:FALSE
SUMMARY:Jeeping for Paws
DESCRIPTION:Sponsored by EARS\, the Jeep Run will start with registration at 11AM at On the Rox\, travel to The Whistle Stop\, Witt's Smokehouse\, The Orchard and finish at the Midway. There are raffles and a 50/50 drawing. Our large raffle includes a winch\, a Yeti cooler\, a children's ride-on Jeep\, a portable grill\, and a remote starter!!!
X-ALT-DESC;FMTTYPE=text/html:Sponsored by EARS\, the Jeep Run will start with registration at 11AM at On the Rox\, travel to The Whistle Stop\, Witt&#39\;s Smokehouse\, The Orchard and finish at the Midway. There are raffles and a 50/50 drawing. Our large raffle includes a winch\, a Yeti cooler\, a children&#39\;s ride-on Jeep\, a portable grill\, and a remote starter!!!
LOCATION:Registration at On the Rox\, or join us anywhere along the way.
UID:e.1548.5047
SEQUENCE:3
DTSTAMP:20260421T183608Z
URL:http://business.effinghamcountychamber.com/events/details/jeeping-for-paws-5047
END:VEVENT

END:VCALENDAR
