BEGIN:VCALENDAR
VERSION:2.0
PRODID:-//ChamberMaster//Event Calendar 2.0//EN
METHOD:PUBLISH
X-PUBLISHED-TTL:P3D
REFRESH-INTERVAL:P3D
CALSCALE:GREGORIAN
BEGIN:VEVENT
DTSTART:20170223T140000Z
DTEND:20170223T230000Z
X-MICROSOFT-CDO-ALLDAYEVENT:FALSE
SUMMARY:Investment in Excellence
DESCRIPTION:Pacific Institute-Investment in Excellence!\n\n\n\nInvestment in Excellence is The Pacific Institute's powerful flagship curricula\, delivering tools for growth and change in a variety of media formats.  It Provides easy-to-understand and easy-to-implement tools to change attitudes and beliefs which produces greater results and higher performance.  Participants gain real insights into areas of personal\, professional\, and organizational growth opportunities through professionally facilitated study and discussion.
X-ALT-DESC;FMTTYPE=text/html:<span style="font-size: 16px\;"><strong><u>Pacific Institute-Investment in Excellence!</u><br />\n<br />\n<span style="font-size: 12px\;"><font size="3">Investment in Excellence is The Pacific Institute&#39\;s powerful flagship curricula\, delivering tools for growth and change in a variety of media formats.&nbsp\; <span style="font-size: 14px\;">It Provides easy-to-understand and easy-to-implement tools to change attitudes and beliefs which produces greater results and higher performance.&nbsp\; Participants gain real insights into areas of personal\, professional\, and organizational growth opportunities through professionally facilitated study and discussion. </span></font></span></strong></span>
LOCATION:Thelma Keller Convention Center Effingham\, Illinois
UID:e.1548.4799
SEQUENCE:3
DTSTAMP:20260422T042746Z
URL:http://business.effinghamcountychamber.com/events/details/investment-in-excellence-4799
END:VEVENT

END:VCALENDAR
