BEGIN:VCALENDAR
VERSION:2.0
PRODID:-//ChamberMaster//Event Calendar 2.0//EN
METHOD:PUBLISH
X-PUBLISHED-TTL:P3D
REFRESH-INTERVAL:P3D
CALSCALE:GREGORIAN
BEGIN:VEVENT
DTSTART:20260331T210000Z
DTEND:20260331T220000Z
X-MICROSOFT-CDO-ALLDAYEVENT:FALSE
SUMMARY:Interview Day Prep: Seal the Deal: How to Stand Out & Get Hired (Zoom/Webinar)
DESCRIPTION:Led by: Rachel Collins\, Stevens Industries\n\nYou made it to the interview   now what sets you apart?\n\nIn this session\, Rachel Collins of Stevens Industries will share practical strategies to help you stand out from other candidates and leave a strong\, lasting impression. From communicating your value clearly to following up professionally\, this workshop focuses on the small details that can make a big difference in hiring decisions.\n\nWhether you're entering the workforce\, changing careers\, or looking to sharpen your approach\, this session will help you feel more confident and prepared to seal the deal.\n\nEach session includes 45 minutes of content plus 15 minutes of live Q&A.
X-ALT-DESC;FMTTYPE=text/html:<p class="x_elementToProof" style="box-sizing: border-box\; margin-top: 0px\; margin-bottom: 1rem\; color: rgb(4\, 61\, 93)\; font-family: sofia-pro\, sans-serif\; font-size: 16px\;"><span style="box-sizing: border-box\; font-weight: 700\;">Led by:</span>&nbsp\;Rachel Collins\, Stevens Industries</p>\n\n<p data-end="388" data-start="333" style="box-sizing: border-box\; margin-top: 0px\; margin-bottom: 1rem\; color: rgb(4\, 61\, 93)\; font-family: sofia-pro\, sans-serif\; font-size: 16px\;">You made it to the interview &mdash\; now what sets you apart?</p>\n\n<p data-end="724" data-start="390" style="box-sizing: border-box\; margin-top: 0px\; margin-bottom: 1rem\; color: rgb(4\, 61\, 93)\; font-family: sofia-pro\, sans-serif\; font-size: 16px\;">In this session\, Rachel Collins of Stevens Industries will share practical strategies to help you stand out from other candidates and leave a strong\, lasting impression. From communicating your value clearly to following up professionally\, this workshop focuses on the small details that can make a big difference in hiring decisions.</p>\n\n<p data-end="897" data-start="726" style="box-sizing: border-box\; margin-top: 0px\; margin-bottom: 1rem\; color: rgb(4\, 61\, 93)\; font-family: sofia-pro\, sans-serif\; font-size: 16px\;">Whether you&rsquo\;re entering the workforce\, changing careers\, or looking to sharpen your approach\, this session will help you feel more confident and prepared to seal the deal.</p>\n\n<p class="x_elementToProof" style="box-sizing: border-box\; margin-top: 0px\; margin-bottom: 1rem\; color: rgb(4\, 61\, 93)\; font-family: sofia-pro\, sans-serif\; font-size: 16px\;">Each session includes&nbsp\;45 minutes of content plus 15 minutes of live Q&amp\;A.</p>\n
LOCATION:Zoom Webinar
UID:e.1548.11358
SEQUENCE:3
DTSTAMP:20260423T183636Z
URL:http://business.effinghamcountychamber.com/events/details/interview-day-prep-seal-the-deal-how-to-stand-out-get-hired-zoom-webinar-11358
END:VEVENT

END:VCALENDAR
