BEGIN:VCALENDAR
VERSION:2.0
PRODID:-//ChamberMaster//Event Calendar 2.0//EN
METHOD:PUBLISH
X-PUBLISHED-TTL:P3D
REFRESH-INTERVAL:P3D
CALSCALE:GREGORIAN
BEGIN:VEVENT
DTSTART:20170316T140000Z
DTEND:20170316T200000Z
X-MICROSOFT-CDO-ALLDAYEVENT:FALSE
SUMMARY:HR TRAINING SEMINAR
DESCRIPTION:HR TRAINING SEMINAR:  Hiring/Firing Best Practices for Illinois Employers
X-ALT-DESC;FMTTYPE=text/html:HR TRAINING SEMINAR:&nbsp\; Hiring/Firing Best Practices for Illinois Employers
LOCATION:Hampton Inn 1305 Keller Drive Effingham\, IL 62401
UID:e.1548.4803
SEQUENCE:3
DTSTAMP:20260422T163943Z
URL:http://business.effinghamcountychamber.com/events/details/hr-training-seminar-4803
END:VEVENT

END:VCALENDAR
