BEGIN:VCALENDAR
VERSION:2.0
PRODID:-//ChamberMaster//Event Calendar 2.0//EN
METHOD:PUBLISH
X-PUBLISHED-TTL:P3D
REFRESH-INTERVAL:P3D
CALSCALE:GREGORIAN
BEGIN:VEVENT
DTSTART;VALUE=DATE:20170614
DTEND;VALUE=DATE:20170615
TRANSP:TRANSPARENT
X-MICROSOFT-CDO-ALLDAYEVENT:TRUE
SUMMARY:Hot Rod Power Tour
DESCRIPTION:The tour starts at 8am in Madison\, Illinois and can expect the tour to pass through Effingham (Main Street) anywhere between 9:45a.m. to the late afternoon.
X-ALT-DESC;FMTTYPE=text/html:The tour starts at 8am in Madison\, Illinois and can expect the tour to pass through&nbsp\;Effingham (Main Street) anywhere between 9:45a.m. to the late afternoon.
LOCATION:
UID:e.1548.5321
SEQUENCE:3
DTSTAMP:20260421T083616Z
URL:http://business.effinghamcountychamber.com/events/details/hot-rod-power-tour-5321
END:VEVENT

END:VCALENDAR
