BEGIN:VCALENDAR
VERSION:2.0
PRODID:-//ChamberMaster//Event Calendar 2.0//EN
METHOD:PUBLISH
X-PUBLISHED-TTL:P3D
REFRESH-INTERVAL:P3D
CALSCALE:GREGORIAN
BEGIN:VEVENT
DTSTART:20170529T200000Z
DTEND:20170529T213000Z
X-MICROSOFT-CDO-ALLDAYEVENT:FALSE
SUMMARY:Here To Serve
DESCRIPTION:"Here To Serve" is a presentation from the Three Chicks and a Stage Theater Troupe at the Effingham Performance Center. We would like to honor and recognize those organizations that have helped our veterans over the many decades. Come honor our veterans and learn about those who have served our country and our veterans
X-ALT-DESC;FMTTYPE=text/html:&quot\;Here To Serve&quot\; is a presentation from the Three Chicks and a Stage Theater Troupe at the Effingham Performance Center. We would like to honor and recognize those organizations that have helped our veterans over the many decades. Come honor our veterans and learn about those who have served our country and our veterans
LOCATION:Effingham Performance Center 1325 Outer Belt W\, Effingham\, IL 62401
UID:e.1548.5320
SEQUENCE:3
DTSTAMP:20260421T004520Z
URL:http://business.effinghamcountychamber.com/events/details/here-to-serve-5320
END:VEVENT

END:VCALENDAR
