BEGIN:VCALENDAR
VERSION:2.0
PRODID:-//ChamberMaster//Event Calendar 2.0//EN
METHOD:PUBLISH
X-PUBLISHED-TTL:P3D
REFRESH-INTERVAL:P3D
CALSCALE:GREGORIAN
BEGIN:VEVENT
DTSTART:20170218T000000Z
DTEND:20170218T040000Z
X-MICROSOFT-CDO-ALLDAYEVENT:FALSE
SUMMARY:Glo Bingo
DESCRIPTION:Glo Bingo Fever is back! Shake the winter blues off at this fun event! Great for groups to attend together for companies\, families and friends (over age 18). Also food/snacks/bar\, silent aution and 50/50 raffle to support your Bingo fun! Doors open at 6pm and Bingo starts at 7pm. $20 in advance or $25 at the door. Buy Tickets online at GloBingoBBBS.eventbrite.com\, Carriage House Altamont\, DQ Effingham\, or call (217) 540-1413 or (217) 348-8741.
X-ALT-DESC;FMTTYPE=text/html:Glo Bingo Fever is back! Shake the winter blues off at this fun event! Great for groups to attend together for companies\, families and friends (over age 18). Also food/snacks/bar\, silent aution and 50/50 raffle to support your Bingo fun! Doors open at 6pm and Bingo starts at 7pm. $20 in advance or $25 at the door. Buy Tickets online at GloBingoBBBS.eventbrite.com\, Carriage House Altamont\, DQ Effingham\, or call (217) 540-1413 or (217) 348-8741.
LOCATION:Carriage House Event Center 8 W Carriage Ln\, Altamont\, Illinois 62411
UID:e.1548.4786
SEQUENCE:3
DTSTAMP:20260422T143825Z
URL:http://business.effinghamcountychamber.com/events/details/glo-bingo-4786
END:VEVENT

END:VCALENDAR
