BEGIN:VCALENDAR
VERSION:2.0
PRODID:-//ChamberMaster//Event Calendar 2.0//EN
METHOD:PUBLISH
X-PUBLISHED-TTL:P3D
REFRESH-INTERVAL:P3D
CALSCALE:GREGORIAN
BEGIN:VEVENT
DTSTART:20251205T180000Z
DTEND:20251205T190000Z
X-MICROSOFT-CDO-ALLDAYEVENT:FALSE
SUMMARY:First Friday Networking Holiday Party - December 2025
DESCRIPTION:Take your networking beyond the boardroom and into the holiday spirit at our December Networking Holiday Party!\n\nWe're decking the halls (and the tables!) at Gabby Goat for a festive afternoon of laughter\, great food\, and connections that shine brighter than holiday lights.\n\nCelebrate the season with your fellow Chamber members - Enjoy lunch\, networking\, and plenty of holiday cheer\n\nSo don your favorite holiday colors (or ugly sweater  )\, grab your business cards\, and join us for a holly-jolly networking lunch you won't want to miss!\n\n\n\n\n \n\n Photo & Video Disclaimer\n\nEffingham County Chamber (Chamber) reserves the right to use any photograph/video taken at any event sponsored by the Chamber\, without the expressed written permission of those included within the photograph/video. The Chamber may use the photograph/video in publications or other media material produced\, used\, or contracted by the Chamber\, including but not limited to brochures\, invitations\, books\, newspapers\, magazines\, television\, websites\, etc. If you do not wish to be photographed/video\, please inform the Chamber.\n\n \n\nAny person or organization not affiliated with Chamber may not use\, copy\, alter\, or modify Chamber photographs\, graphics\, videography\, or other similar reproductions and recordings without the advance written permission of an authorized designee from Chamber.
X-ALT-DESC;FMTTYPE=text/html:<div data-olk-copy-source="MailCompose" style="margin-top: 1em\; margin-bottom: 1em\; font-family: Aptos\, Aptos_EmbeddedFont\, Aptos_MSFontService\, Calibri\, Helvetica\, sans-serif\; font-size: 12pt\; color: rgb(0\, 0\, 0)\;">\n<div data-olk-copy-source="MailCompose" style="margin-top: 1em\; margin-bottom: 1em\; font-size: 11pt\;">Take your networking&nbsp\;<i>beyond the boardroom</i>&nbsp\;and into the holiday spirit at our&nbsp\;December Networking&nbsp\;Holiday Party!</div>\n\n<div style="margin-top: 1em\; margin-bottom: 1em\; font-size: 11pt\;">We&rsquo\;re decking the halls (and the tables!) at&nbsp\;Gabby Goat&nbsp\;for a festive afternoon of laughter\, great food\, and connections that shine brighter than holiday lights.</div>\n\n<p><span style="font-size: 11pt\;">Celebrate the season with your fellow Chamber members - Enjoy lunch\, networking\, and plenty of holiday cheer</span></p>\n\n<p><span style="font-size: 11pt\;">So don your favorite holiday colors (or ugly sweater &#128064\;)\, grab your business cards\, and join us for a holly-jolly networking lunch you won&rsquo\;t want to miss!</span></p>\n</div>\n\n<p><br />\n&nbsp\;<br />\n&nbsp\;<strong><em><u><span style="color: rgb(36\, 36\, 36)\;"><span style="font-size: 8.5pt\;">Photo &amp\; Video Disclaimer</span></span></u></em></strong><br />\n<em><span style="color: rgb(36\, 36\, 36)\;"><span style="font-size: 8.5pt\;">Effingham County Chamber (Chamber) reserves the right to use any photograph/video taken at any event sponsored by the Chamber\, without the expressed written permission of those included within the photograph/video. The Chamber may use the photograph/video in publications or other media material produced\, used\, or contracted by the Chamber\, including but not limited to brochures\, invitations\, books\, newspapers\, magazines\, television\, websites\, etc. If you do not wish to be photographed/video\, please inform the Chamber.</span></span></em><br />\n&nbsp\;<br />\n<em><span style="color: rgb(36\, 36\, 36)\;"><span style="font-size: 8.5pt\;">Any person or organization not affiliated with Chamber may not use\, copy\, alter\, or modify Chamber photographs\, graphics\, videography\, or other similar reproductions and recordings without the advance written permission of an authorized designee from Chamber.</span></span></em></p>\n
LOCATION:Gabby Goat 303 E Fayette Ave.
UID:e.1548.11301
SEQUENCE:3
DTSTAMP:20260423T230404Z
URL:http://business.effinghamcountychamber.com/events/details/first-friday-networking-holiday-party-december-2025-11301
END:VEVENT

END:VCALENDAR
