BEGIN:VCALENDAR
VERSION:2.0
PRODID:-//ChamberMaster//Event Calendar 2.0//EN
METHOD:PUBLISH
X-PUBLISHED-TTL:P3D
REFRESH-INTERVAL:P3D
CALSCALE:GREGORIAN
BEGIN:VEVENT
DTSTART:20170420T170000Z
DTEND:20170420T180000Z
X-MICROSOFT-CDO-ALLDAYEVENT:FALSE
SUMMARY:Fall Social Meeting
DESCRIPTION:Fall Social Meeting\n\nThursday\, April 20\n\n12 - 1 p.m.\n\nDieterich Bank Corporate office
X-ALT-DESC;FMTTYPE=text/html:Fall Social Meeting<br />\nThursday\, April 20<br />\n12 - 1 p.m.<br />\nDieterich Bank Corporate office
LOCATION:Dieterich Bank Corporate office 300 Sur Woods Drive
UID:e.1548.5122
SEQUENCE:3
DTSTAMP:20260422T020545Z
URL:http://business.effinghamcountychamber.com/events/details/fall-social-meeting-5122
END:VEVENT

END:VCALENDAR
