BEGIN:VCALENDAR
VERSION:2.0
PRODID:-//ChamberMaster//Event Calendar 2.0//EN
METHOD:PUBLISH
X-PUBLISHED-TTL:P3D
REFRESH-INTERVAL:P3D
CALSCALE:GREGORIAN
BEGIN:VEVENT
DTSTART:20170321T230000Z
DTEND:20170322T000000Z
X-MICROSOFT-CDO-ALLDAYEVENT:FALSE
SUMMARY:Effingham Knitters Group
DESCRIPTION:The Effingham Knitting and Crochet Group is here to help with your knitting or crochet problems. They'll even help get you started!
X-ALT-DESC;FMTTYPE=text/html:The Effingham Knitting and Crochet Group is here to help with your knitting or crochet problems. They&#39\;ll even help get you started!
LOCATION:Effingham Public Library - Workman Room
UID:e.1548.5020
SEQUENCE:3
DTSTAMP:20260422T163702Z
URL:http://business.effinghamcountychamber.com/events/details/effingham-knitters-group-5020
END:VEVENT

END:VCALENDAR
