BEGIN:VCALENDAR
VERSION:2.0
PRODID:-//ChamberMaster//Event Calendar 2.0//EN
METHOD:PUBLISH
X-PUBLISHED-TTL:P3D
REFRESH-INTERVAL:P3D
CALSCALE:GREGORIAN
BEGIN:VEVENT
DTSTART:20260717T220000Z
DTEND:20260718T040000Z
X-MICROSOFT-CDO-ALLDAYEVENT:FALSE
SUMMARY:EffingHAM-JAM Sponsors & Vendors 2026
DESCRIPTION:Join us Friday\, July 17 for EffingHAM-JAM\, presented by Koerner Distributor\, Inc. This isn't just a BBQ festival it's a full-on summer celebration of smoke\, sauce\, music\, and community.\n\nThe Hometown Throwdown amateur BBQ competition kicks off an evening of mouthwatering eats\, live music\, family fun\, and backyard bragging rights. Rally your crew of grill masters and compete for category trophies\, Top Hog honors\, and the Grand Champion title   plus a cash prize for the overall winner.\n\nLive music\, a kids' foam party\, cold drinks\, and plenty of incredible BBQ make this one of the summer's can't-miss events.\n\nAnd here's something we're proud of \n\nLast year\, EffingHAM-JAM raised $15\,000 for the Chamber Scholarship Program.\n\nALL net proceeds from the event go directly back into our community through scholarships supporting local students and adult learners pursuing their education.\n\nCome hungry. Bring your friends. Support local.\n\n\n\nStay updated with event details & applications at EffingHAMJAM.com.\n \n\nPhoto & Video Disclaimer\n\nEffingham County Chamber (Chamber) reserves the right to use any photograph/video taken at any event sponsored by the Chamber\, without the expressed written permission of those included within the photograph/video. The Chamber may use the photograph/video in publications or other media material produced\, used\, or contracted by the Chamber\, including but not limited to brochures\, invitations\, books\, newspapers\, magazines\, television\, websites\, etc. If you do not wish to be photographed/video\, please inform the Chamber.\n\nAny person or organization not affiliated with Chamber may not use\, copy\, alter\, or modify Chamber photographs\, graphics\, videography\, or other similar reproductions and recordings without the advance written permission of an authorized designee from Chamber.
X-ALT-DESC;FMTTYPE=text/html:<p data-end="226" data-start="36">Join us Friday\, July 17 for <strong><a href="https://effinghamjam.com/" rel="noopener" target="_blank">EffingHAM-JAM</a></strong>\, presented by Koerner Distributor\, Inc. This isn&rsquo\;t just a BBQ festival&hellip\;it&rsquo\;s a full-on summer celebration of smoke\, sauce\, music\, and community.</p>\n\n<p data-end="533" data-start="228">The Hometown Throwdown amateur BBQ competition kicks off an evening of mouthwatering eats\, live music\, family fun\, and backyard bragging rights. Rally your crew of grill masters and compete for category trophies\, Top Hog honors\, and the Grand Champion title &mdash\; plus a cash prize for the overall winner.</p>\n\n<p data-end="657" data-start="535">Live music\, a kids&rsquo\; foam party\, cold drinks\, and plenty of incredible BBQ make this one of the summer&rsquo\;s can&rsquo\;t-miss events.</p>\n\n<p data-end="795" data-start="659"><em><strong>And here&rsquo\;s something we&rsquo\;re proud of&hellip\;</strong></em><br data-end="698" data-start="695" />\nLast year\, EffingHAM-JAM raised <em><strong data-end="741" data-start="730">$15\,000</strong></em> for the <a href="https://effinghamcountychamber.com/chamber-scholarship/" rel="noopener" target="_blank">Chamber Scholarship Program</a>.</p>\n\n<p data-end="956" data-start="797">ALL net proceeds from the event go directly back into our community through scholarships supporting local students and adult learners pursuing their education.</p>\n\n<p data-end="1041" data-is-last-node="" data-is-only-node="" data-start="958"><em>Come hungry. Bring your friends. Support local.</em><br />\n<br />\n<strong data-end="1644" data-start="1551">Stay updated with event details &amp\; applications at <a href="https://effinghamjam.com/" rel="noopener" target="_blank">EffingHAMJAM.com</a>.</strong></p>\n&nbsp\;\n\n<p class="caption"><span style="font-size:9px\;"><span style="font-family:arial\;"><strong><em><u>Photo &amp\; Video Disclaimer</u></em></strong><br />\n<em>Effingham County Chamber (Chamber) reserves the right to use any photograph/video taken at any event sponsored by the Chamber\, without the expressed written permission of those included within the photograph/video. The Chamber may use the photograph/video in publications or other media material produced\, used\, or contracted by the Chamber\, including but not limited to brochures\, invitations\, books\, newspapers\, magazines\, television\, websites\, etc. If you do not wish to be photographed/video\, please inform the Chamber.</em></span></span></p>\n\n<p class="caption"><span style="font-size:9px\;"><span style="font-family:arial\;"><em>Any person or organization not affiliated with Chamber may not use\, copy\, alter\, or modify Chamber photographs\, graphics\, videography\, or other similar reproductions and recordings without the advance written permission of an authorized designee from Chamber.</em></span></span></p>\n<br />\n&nbsp\;
LOCATION:Downtown Effingham
UID:e.1548.11371
SEQUENCE:3
DTSTAMP:20260423T183359Z
URL:http://business.effinghamcountychamber.com/events/details/effingham-jam-sponsors-vendors-2026-11371
END:VEVENT

END:VCALENDAR
